BEGIN:VCALENDAR
VERSION:2.0
PRODID:-//Notmark kirke - ECPv6.15.20//NONSGML v1.0//EN
CALSCALE:GREGORIAN
METHOD:PUBLISH
X-ORIGINAL-URL:https://notmarkkirke.dk
X-WR-CALDESC:Begivenheder for Notmark kirke
REFRESH-INTERVAL;VALUE=DURATION:PT1H
X-Robots-Tag:noindex
X-PUBLISHED-TTL:PT1H
BEGIN:VTIMEZONE
TZID:Europe/Copenhagen
BEGIN:DAYLIGHT
TZOFFSETFROM:+0100
TZOFFSETTO:+0200
TZNAME:CEST
DTSTART:20240331T010000
END:DAYLIGHT
BEGIN:STANDARD
TZOFFSETFROM:+0200
TZOFFSETTO:+0100
TZNAME:CET
DTSTART:20241027T010000
END:STANDARD
BEGIN:DAYLIGHT
TZOFFSETFROM:+0100
TZOFFSETTO:+0200
TZNAME:CEST
DTSTART:20250330T010000
END:DAYLIGHT
BEGIN:STANDARD
TZOFFSETFROM:+0200
TZOFFSETTO:+0100
TZNAME:CET
DTSTART:20251026T010000
END:STANDARD
BEGIN:DAYLIGHT
TZOFFSETFROM:+0100
TZOFFSETTO:+0200
TZNAME:CEST
DTSTART:20260329T010000
END:DAYLIGHT
BEGIN:STANDARD
TZOFFSETFROM:+0200
TZOFFSETTO:+0100
TZNAME:CET
DTSTART:20261025T010000
END:STANDARD
END:VTIMEZONE
BEGIN:VEVENT
DTSTART;TZID=Europe/Copenhagen:20250906T153000
DTEND;TZID=Europe/Copenhagen:20250906T173000
DTSTAMP:20260417T225618
CREATED:20250809T143220Z
LAST-MODIFIED:20250809T143220Z
UID:2971-1757172600-1757179800@notmarkkirke.dk
SUMMARY:Sprøde Jazztoner
DESCRIPTION:🎷 Sprøde jazztoner i Notmark Sognehus – Lørdag d. 6. september kl. 15.30 \nKom og nyd en eftermiddag fyldt med livlige jazztoner\, når Sax Appeal gæster Notmark Sognehus!Fire erfarne musikere leverer glad\, swingende jazzmusik – fra klassiske evergreens til sydamerikanske rytmer – alt serveret med et smil og masser af spilleglæde. Perfekt til både dans og hyggelig lytning. \nEntré: 50 kr. – Vi byder på et glas vin og lidt chips.📍 Sted: Notmark Sognehus📅 Tilmelding senest: 4. september til Mary på 24650161
URL:https://notmarkkirke.dk/event/sproede-jazztoner/
END:VEVENT
BEGIN:VEVENT
DTSTART;TZID=Europe/Copenhagen:20250907T093000
DTEND;TZID=Europe/Copenhagen:20250907T103000
DTSTAMP:20260417T225618
CREATED:20250810T054227Z
LAST-MODIFIED:20250829T201629Z
UID:2999-1757237400-1757241000@notmarkkirke.dk
SUMMARY:Gudstjeneste ved Lars Astman Smedemark\, Sønderborg
DESCRIPTION:Tekst her
URL:https://notmarkkirke.dk/event/testbegivenhed-6/
LOCATION:Notmark kirke\, Kirkepladsen 2\, Denmark
CATEGORIES:Gudstjenester
END:VEVENT
BEGIN:VEVENT
DTSTART;TZID=Europe/Copenhagen:20250910T180000
DTEND;TZID=Europe/Copenhagen:20250910T200000
DTSTAMP:20260417T225618
CREATED:20250809T144434Z
LAST-MODIFIED:20250809T144434Z
UID:2977-1757527200-1757534400@notmarkkirke.dk
SUMMARY:Menighedsrådsmøde
DESCRIPTION:Åbent for alle
URL:https://notmarkkirke.dk/event/menighedsraadsmoede-2/
END:VEVENT
BEGIN:VEVENT
DTSTART;TZID=Europe/Copenhagen:20250914T093000
DTEND;TZID=Europe/Copenhagen:20250914T103000
DTSTAMP:20260417T225618
CREATED:20250829T201750Z
LAST-MODIFIED:20250829T201750Z
UID:3207-1757842200-1757845800@notmarkkirke.dk
SUMMARY:Gudstjeneste ved Tamira M. Jørgensen Asserballe/Ketting
DESCRIPTION:Tekst her
URL:https://notmarkkirke.dk/event/testbegivenhed-7/
LOCATION:Notmark kirke\, Kirkepladsen 2\, Denmark
CATEGORIES:Gudstjenester
END:VEVENT
BEGIN:VEVENT
DTSTART;TZID=Europe/Copenhagen:20250921T140000
DTEND;TZID=Europe/Copenhagen:20250921T150000
DTSTAMP:20260417T225618
CREATED:20250829T202012Z
LAST-MODIFIED:20250829T202111Z
UID:3210-1758463200-1758466800@notmarkkirke.dk
SUMMARY:Høstgudstjeneste ved Jørgen Jørgensen\, Sønderborg
DESCRIPTION:
URL:https://notmarkkirke.dk/event/testbegivenhed-8/
LOCATION:Notmark kirke\, Kirkepladsen 2\, Denmark
CATEGORIES:Gudstjenester
END:VEVENT
BEGIN:VEVENT
DTSTART;TZID=Europe/Copenhagen:20250924T193000
DTEND;TZID=Europe/Copenhagen:20250924T203000
DTSTAMP:20260417T225618
CREATED:20250809T143848Z
LAST-MODIFIED:20250809T143848Z
UID:2973-1758742200-1758745800@notmarkkirke.dk
SUMMARY:🎶 Orgelfestivalkoncert i Notmark Kirke 🎶
DESCRIPTION:Glæd dig til en storslået aften med orgelmusik\, når Notmark Kirke igen i år er med i Orgelfestivalen for Sønderborg og omegn. \nOnsdag den 24. september kl. 19.30 byder vi velkommen til et af landets mest lovende unge orgeltalenter – Thomas Obeth\, blot 25 år og allerede organist ved Haderslev Domkirke. \nPå det smukke og klangfulde orgel i Notmark Kirke fremfører han værker af J.S. Bach\, Hugo Distler og Dietrich Buxtehude – en koncert med både dybde\, energi og musikalsk finesse. \nKom og oplev en aften\, hvor tradition og talent smelter sammen i enestående orgelklange. \nFri entré – alle er velkomne!
URL:https://notmarkkirke.dk/event/%f0%9f%8e%b6-orgelfestivalkoncert-i-notmark-kirke-%f0%9f%8e%b6/
END:VEVENT
BEGIN:VEVENT
DTSTART;TZID=Europe/Copenhagen:20250928T093000
DTEND;TZID=Europe/Copenhagen:20250928T103000
DTSTAMP:20260417T225618
CREATED:20250829T202257Z
LAST-MODIFIED:20250829T202258Z
UID:3213-1759051800-1759055400@notmarkkirke.dk
SUMMARY:Gudstjeneste ved Sophie-Lønne R. Hundebøll\, Nordborg/Oksbøl
DESCRIPTION:Tekst her
URL:https://notmarkkirke.dk/event/testbegivenhed-9/
LOCATION:Notmark kirke\, Kirkepladsen 2\, Denmark
CATEGORIES:Gudstjenester
END:VEVENT
END:VCALENDAR