BEGIN:VCALENDAR
VERSION:2.0
PRODID:-//Notmark kirke - ECPv6.15.20//NONSGML v1.0//EN
CALSCALE:GREGORIAN
METHOD:PUBLISH
X-WR-CALNAME:Notmark kirke
X-ORIGINAL-URL:https://notmarkkirke.dk
X-WR-CALDESC:Begivenheder for Notmark kirke
REFRESH-INTERVAL;VALUE=DURATION:PT1H
X-Robots-Tag:noindex
X-PUBLISHED-TTL:PT1H
BEGIN:VTIMEZONE
TZID:Europe/Copenhagen
BEGIN:DAYLIGHT
TZOFFSETFROM:+0100
TZOFFSETTO:+0200
TZNAME:CEST
DTSTART:20240331T010000
END:DAYLIGHT
BEGIN:STANDARD
TZOFFSETFROM:+0200
TZOFFSETTO:+0100
TZNAME:CET
DTSTART:20241027T010000
END:STANDARD
BEGIN:DAYLIGHT
TZOFFSETFROM:+0100
TZOFFSETTO:+0200
TZNAME:CEST
DTSTART:20250330T010000
END:DAYLIGHT
BEGIN:STANDARD
TZOFFSETFROM:+0200
TZOFFSETTO:+0100
TZNAME:CET
DTSTART:20251026T010000
END:STANDARD
BEGIN:DAYLIGHT
TZOFFSETFROM:+0100
TZOFFSETTO:+0200
TZNAME:CEST
DTSTART:20260329T010000
END:DAYLIGHT
BEGIN:STANDARD
TZOFFSETFROM:+0200
TZOFFSETTO:+0100
TZNAME:CET
DTSTART:20261025T010000
END:STANDARD
END:VTIMEZONE
BEGIN:VEVENT
DTSTART;TZID=Europe/Copenhagen:20250810T093000
DTEND;TZID=Europe/Copenhagen:20250810T103000
DTSTAMP:20260421T183041
CREATED:20250809T115109Z
LAST-MODIFIED:20250809T180318Z
UID:2948-1754818200-1754821800@notmarkkirke.dk
SUMMARY:Gudstjeneste med kirkekaffe
DESCRIPTION:Præst Niels Refskou afholder gudstjenesten
URL:https://notmarkkirke.dk/event/testbegivenhed-2/
LOCATION:Notmark kirke\, Kirkepladsen 2\, Denmark
CATEGORIES:Gudstjenester
END:VEVENT
BEGIN:VEVENT
DTSTART;TZID=Europe/Copenhagen:20250814T180000
DTEND;TZID=Europe/Copenhagen:20250814T200000
DTSTAMP:20260421T183041
CREATED:20250809T144224Z
LAST-MODIFIED:20250809T144224Z
UID:2975-1755194400-1755201600@notmarkkirke.dk
SUMMARY:Menighedsrådsmøde
DESCRIPTION:Åbent for alle
URL:https://notmarkkirke.dk/event/menighedsraadsmoede/
END:VEVENT
BEGIN:VEVENT
DTSTART;TZID=Europe/Copenhagen:20250817T093000
DTEND;TZID=Europe/Copenhagen:20250817T103000
DTSTAMP:20260421T183041
CREATED:20250809T180430Z
LAST-MODIFIED:20250809T180430Z
UID:2991-1755423000-1755426600@notmarkkirke.dk
SUMMARY:Gudstjeneste ved Mads Jakob Thorlund Jakobsen\, Marie Sogn
DESCRIPTION:Tekst her
URL:https://notmarkkirke.dk/event/testbegivenhed-3/
LOCATION:Notmark kirke\, Kirkepladsen 2\, Denmark
CATEGORIES:Gudstjenester
END:VEVENT
BEGIN:VEVENT
DTSTART;TZID=Europe/Copenhagen:20250824T093000
DTEND;TZID=Europe/Copenhagen:20250824T103000
DTSTAMP:20260421T183041
CREATED:20250809T180638Z
LAST-MODIFIED:20250809T181115Z
UID:2994-1756027800-1756031400@notmarkkirke.dk
SUMMARY:Lægmandsgudstjeneste v. Ejler Skjerning
DESCRIPTION:Tekst her
URL:https://notmarkkirke.dk/event/testbegivenhed-4/
LOCATION:Notmark kirke\, Kirkepladsen 2\, Denmark
CATEGORIES:Gudstjenester
END:VEVENT
BEGIN:VEVENT
DTSTART;TZID=Europe/Copenhagen:20250831T093000
DTEND;TZID=Europe/Copenhagen:20250831T103000
DTSTAMP:20260421T183041
CREATED:20250809T180929Z
LAST-MODIFIED:20250809T180930Z
UID:2996-1756632600-1756636200@notmarkkirke.dk
SUMMARY:Gudstjeneste ved Anders Raahauge\, Marie Sogn
DESCRIPTION:Tekst her
URL:https://notmarkkirke.dk/event/testbegivenhed-5/
LOCATION:Notmark kirke\, Kirkepladsen 2\, Denmark
CATEGORIES:Gudstjenester
END:VEVENT
END:VCALENDAR