BEGIN:VCALENDAR
VERSION:2.0
PRODID:-//Notmark kirke - ECPv6.15.20//NONSGML v1.0//EN
CALSCALE:GREGORIAN
METHOD:PUBLISH
X-WR-CALNAME:Notmark kirke
X-ORIGINAL-URL:https://notmarkkirke.dk
X-WR-CALDESC:Begivenheder for Notmark kirke
REFRESH-INTERVAL;VALUE=DURATION:PT1H
X-Robots-Tag:noindex
X-PUBLISHED-TTL:PT1H
BEGIN:VTIMEZONE
TZID:Europe/Copenhagen
BEGIN:DAYLIGHT
TZOFFSETFROM:+0100
TZOFFSETTO:+0200
TZNAME:CEST
DTSTART:20230326T010000
END:DAYLIGHT
BEGIN:STANDARD
TZOFFSETFROM:+0200
TZOFFSETTO:+0100
TZNAME:CET
DTSTART:20231029T010000
END:STANDARD
BEGIN:DAYLIGHT
TZOFFSETFROM:+0100
TZOFFSETTO:+0200
TZNAME:CEST
DTSTART:20240331T010000
END:DAYLIGHT
BEGIN:STANDARD
TZOFFSETFROM:+0200
TZOFFSETTO:+0100
TZNAME:CET
DTSTART:20241027T010000
END:STANDARD
BEGIN:DAYLIGHT
TZOFFSETFROM:+0100
TZOFFSETTO:+0200
TZNAME:CEST
DTSTART:20250330T010000
END:DAYLIGHT
BEGIN:STANDARD
TZOFFSETFROM:+0200
TZOFFSETTO:+0100
TZNAME:CET
DTSTART:20251026T010000
END:STANDARD
END:VTIMEZONE
BEGIN:VEVENT
DTSTART;TZID=Europe/Copenhagen:20241030T090000
DTEND;TZID=Europe/Copenhagen:20241030T093000
DTSTAMP:20260422T183051
CREATED:20241026T210927Z
LAST-MODIFIED:20241026T210927Z
UID:2234-1730278800-1730280600@notmarkkirke.dk
SUMMARY:Formiddags Cafe
DESCRIPTION:Morgenmad med hygge og musik
URL:https://notmarkkirke.dk/event/formiddags-cafe/
LOCATION:Notmark kirke\, Kirkepladsen 2\, Denmark
END:VEVENT
END:VCALENDAR