BEGIN:VCALENDAR
VERSION:2.0
PRODID:-//Notmark kirke - ECPv6.15.20//NONSGML v1.0//EN
CALSCALE:GREGORIAN
METHOD:PUBLISH
X-ORIGINAL-URL:https://notmarkkirke.dk
X-WR-CALDESC:Begivenheder for Notmark kirke
REFRESH-INTERVAL;VALUE=DURATION:PT1H
X-Robots-Tag:noindex
X-PUBLISHED-TTL:PT1H
BEGIN:VTIMEZONE
TZID:Europe/Copenhagen
BEGIN:DAYLIGHT
TZOFFSETFROM:+0100
TZOFFSETTO:+0200
TZNAME:CEST
DTSTART:20240331T010000
END:DAYLIGHT
BEGIN:STANDARD
TZOFFSETFROM:+0200
TZOFFSETTO:+0100
TZNAME:CET
DTSTART:20241027T010000
END:STANDARD
BEGIN:DAYLIGHT
TZOFFSETFROM:+0100
TZOFFSETTO:+0200
TZNAME:CEST
DTSTART:20250330T010000
END:DAYLIGHT
BEGIN:STANDARD
TZOFFSETFROM:+0200
TZOFFSETTO:+0100
TZNAME:CET
DTSTART:20251026T010000
END:STANDARD
BEGIN:DAYLIGHT
TZOFFSETFROM:+0100
TZOFFSETTO:+0200
TZNAME:CEST
DTSTART:20260329T010000
END:DAYLIGHT
BEGIN:STANDARD
TZOFFSETFROM:+0200
TZOFFSETTO:+0100
TZNAME:CET
DTSTART:20261025T010000
END:STANDARD
END:VTIMEZONE
BEGIN:VEVENT
DTSTART;TZID=Europe/Copenhagen:20250928T093000
DTEND;TZID=Europe/Copenhagen:20250928T103000
DTSTAMP:20260421T190100
CREATED:20250829T202257Z
LAST-MODIFIED:20250829T202258Z
UID:3213-1759051800-1759055400@notmarkkirke.dk
SUMMARY:Gudstjeneste ved Sophie-Lønne R. Hundebøll\, Nordborg/Oksbøl
DESCRIPTION:Tekst her
URL:https://notmarkkirke.dk/event/testbegivenhed-9/
LOCATION:Notmark kirke\, Kirkepladsen 2\, Denmark
CATEGORIES:Gudstjenester
END:VEVENT
END:VCALENDAR