BEGIN:VCALENDAR
VERSION:2.0
PRODID:-//Notmark kirke - ECPv6.15.20//NONSGML v1.0//EN
CALSCALE:GREGORIAN
METHOD:PUBLISH
X-ORIGINAL-URL:https://notmarkkirke.dk
X-WR-CALDESC:Begivenheder for Notmark kirke
REFRESH-INTERVAL;VALUE=DURATION:PT1H
X-Robots-Tag:noindex
X-PUBLISHED-TTL:PT1H
BEGIN:VTIMEZONE
TZID:Europe/Copenhagen
BEGIN:DAYLIGHT
TZOFFSETFROM:+0100
TZOFFSETTO:+0200
TZNAME:CEST
DTSTART:20240331T010000
END:DAYLIGHT
BEGIN:STANDARD
TZOFFSETFROM:+0200
TZOFFSETTO:+0100
TZNAME:CET
DTSTART:20241027T010000
END:STANDARD
BEGIN:DAYLIGHT
TZOFFSETFROM:+0100
TZOFFSETTO:+0200
TZNAME:CEST
DTSTART:20250330T010000
END:DAYLIGHT
BEGIN:STANDARD
TZOFFSETFROM:+0200
TZOFFSETTO:+0100
TZNAME:CET
DTSTART:20251026T010000
END:STANDARD
BEGIN:DAYLIGHT
TZOFFSETFROM:+0100
TZOFFSETTO:+0200
TZNAME:CEST
DTSTART:20260329T010000
END:DAYLIGHT
BEGIN:STANDARD
TZOFFSETFROM:+0200
TZOFFSETTO:+0100
TZNAME:CET
DTSTART:20261025T010000
END:STANDARD
END:VTIMEZONE
BEGIN:VEVENT
DTSTART;TZID=Europe/Copenhagen:20250924T193000
DTEND;TZID=Europe/Copenhagen:20250924T203000
DTSTAMP:20260421T205128
CREATED:20250809T143848Z
LAST-MODIFIED:20250809T143848Z
UID:2973-1758742200-1758745800@notmarkkirke.dk
SUMMARY:🎶 Orgelfestivalkoncert i Notmark Kirke 🎶
DESCRIPTION:Glæd dig til en storslået aften med orgelmusik\, når Notmark Kirke igen i år er med i Orgelfestivalen for Sønderborg og omegn. \nOnsdag den 24. september kl. 19.30 byder vi velkommen til et af landets mest lovende unge orgeltalenter – Thomas Obeth\, blot 25 år og allerede organist ved Haderslev Domkirke. \nPå det smukke og klangfulde orgel i Notmark Kirke fremfører han værker af J.S. Bach\, Hugo Distler og Dietrich Buxtehude – en koncert med både dybde\, energi og musikalsk finesse. \nKom og oplev en aften\, hvor tradition og talent smelter sammen i enestående orgelklange. \nFri entré – alle er velkomne!
URL:https://notmarkkirke.dk/event/%f0%9f%8e%b6-orgelfestivalkoncert-i-notmark-kirke-%f0%9f%8e%b6/
END:VEVENT
END:VCALENDAR